BEGIN:VCALENDAR
VERSION:2.0
PRODID:-//The BackWood Bar - ECPv6.15.20//NONSGML v1.0//EN
CALSCALE:GREGORIAN
METHOD:PUBLISH
X-WR-CALNAME:The BackWood Bar
X-ORIGINAL-URL:https://thebackwoodbar.com
X-WR-CALDESC:Events for The BackWood Bar
REFRESH-INTERVAL;VALUE=DURATION:PT1H
X-Robots-Tag:noindex
X-PUBLISHED-TTL:PT1H
BEGIN:VTIMEZONE
TZID:America/Chicago
BEGIN:DAYLIGHT
TZOFFSETFROM:-0600
TZOFFSETTO:-0500
TZNAME:CDT
DTSTART:20250309T080000
END:DAYLIGHT
BEGIN:STANDARD
TZOFFSETFROM:-0500
TZOFFSETTO:-0600
TZNAME:CST
DTSTART:20251102T070000
END:STANDARD
BEGIN:DAYLIGHT
TZOFFSETFROM:-0600
TZOFFSETTO:-0500
TZNAME:CDT
DTSTART:20260308T080000
END:DAYLIGHT
BEGIN:STANDARD
TZOFFSETFROM:-0500
TZOFFSETTO:-0600
TZNAME:CST
DTSTART:20261101T070000
END:STANDARD
BEGIN:DAYLIGHT
TZOFFSETFROM:-0600
TZOFFSETTO:-0500
TZNAME:CDT
DTSTART:20270314T080000
END:DAYLIGHT
BEGIN:STANDARD
TZOFFSETFROM:-0500
TZOFFSETTO:-0600
TZNAME:CST
DTSTART:20271107T070000
END:STANDARD
END:VTIMEZONE
BEGIN:VEVENT
DTSTART;TZID=America/Chicago:20260420T190000
DTEND;TZID=America/Chicago:20260420T220000
DTSTAMP:20260420T005814
CREATED:20260402T234627Z
LAST-MODIFIED:20260402T234627Z
UID:3392-1776711600-1776722400@thebackwoodbar.com
SUMMARY:Bob Appel
DESCRIPTION:Monday\, April 20⋅7:00 – 10:00pm
URL:https://thebackwoodbar.com/event/bob-appel-6/
ATTACH;FMTTYPE=image/png:https://thebackwoodbar.com/wp-content/uploads/2026/04/Bob-Appel.png
END:VEVENT
BEGIN:VEVENT
DTSTART;TZID=America/Chicago:20260421T190000
DTEND;TZID=America/Chicago:20260421T210000
DTSTAMP:20260420T005814
CREATED:20260402T234738Z
LAST-MODIFIED:20260402T234738Z
UID:3393-1776798000-1776805200@thebackwoodbar.com
SUMMARY:Matt Fertitta
DESCRIPTION:Tuesday\, April 21⋅7:00 – 9:00pm\nEvery 2 weeks on Tuesday
URL:https://thebackwoodbar.com/event/matt-fertitta-6/
ATTACH;FMTTYPE=image/png:https://thebackwoodbar.com/wp-content/uploads/2026/04/Tuesday_s.png
END:VEVENT
BEGIN:VEVENT
DTSTART;TZID=America/Chicago:20260422T190000
DTEND;TZID=America/Chicago:20260422T230000
DTSTAMP:20260420T005814
CREATED:20260402T234843Z
LAST-MODIFIED:20260402T234843Z
UID:3394-1776884400-1776898800@thebackwoodbar.com
SUMMARY:Lone Star Souvenirs
DESCRIPTION:Wednesday\, April 22⋅7:00 – 11:00pm\nWeekly on Wednesday
URL:https://thebackwoodbar.com/event/lone-star-souvenirs-22/
ATTACH;FMTTYPE=image/webp:https://thebackwoodbar.com/wp-content/uploads/2025/11/LSS-1.webp
END:VEVENT
BEGIN:VEVENT
DTSTART;TZID=America/Chicago:20260423T190000
DTEND;TZID=America/Chicago:20260423T230000
DTSTAMP:20260420T005814
CREATED:20260402T235033Z
LAST-MODIFIED:20260402T235033Z
UID:3395-1776970800-1776985200@thebackwoodbar.com
SUMMARY:Open Mic
DESCRIPTION:Thursday\, April 23⋅7:00 – 11:00pm\nWeekly on Thursday
URL:https://thebackwoodbar.com/event/open-mic-21/
ATTACH;FMTTYPE=image/jpeg:https://thebackwoodbar.com/wp-content/uploads/2025/12/Open-Mic.jpg
END:VEVENT
BEGIN:VEVENT
DTSTART;TZID=America/Chicago:20260424T200000
DTEND;TZID=America/Chicago:20260424T230000
DTSTAMP:20260420T005814
CREATED:20260402T235228Z
LAST-MODIFIED:20260402T235228Z
UID:3396-1777060800-1777071600@thebackwoodbar.com
SUMMARY:George Mercado Band
DESCRIPTION:Friday\, April 24⋅8:00 – 11:00pm
URL:https://thebackwoodbar.com/event/george-mercado-band/
ATTACH;FMTTYPE=image/png:https://thebackwoodbar.com/wp-content/uploads/2024/08/placeholder-1.png
END:VEVENT
BEGIN:VEVENT
DTSTART;TZID=America/Chicago:20260425T090000
DTEND;TZID=America/Chicago:20260425T230000
DTSTAMP:20260420T005814
CREATED:20260402T235529Z
LAST-MODIFIED:20260402T235529Z
UID:3408-1777107600-1777158000@thebackwoodbar.com
SUMMARY:Outside Stage:
DESCRIPTION:Vallejo – 9pm – 11pm
URL:https://thebackwoodbar.com/event/outside-stage/
ATTACH;FMTTYPE=image/png:https://thebackwoodbar.com/wp-content/uploads/2026/03/4.25.26.png
END:VEVENT
BEGIN:VEVENT
DTSTART;TZID=America/Chicago:20260425T190000
DTEND;TZID=America/Chicago:20260425T203000
DTSTAMP:20260420T005814
CREATED:20260403T230136Z
LAST-MODIFIED:20260403T230136Z
UID:3413-1777143600-1777149000@thebackwoodbar.com
SUMMARY:Outside Stage:
DESCRIPTION:Broken Arrow – 7pm – 8:30pm
URL:https://thebackwoodbar.com/event/outside-stage-2/
ATTACH;FMTTYPE=image/png:https://thebackwoodbar.com/wp-content/uploads/2026/03/4.25.26.png
END:VEVENT
BEGIN:VEVENT
DTSTART;TZID=America/Chicago:20260425T190000
DTEND;TZID=America/Chicago:20260425T220000
DTSTAMP:20260420T005814
CREATED:20260402T235354Z
LAST-MODIFIED:20260402T235354Z
UID:3397-1777143600-1777154400@thebackwoodbar.com
SUMMARY:Grand Opening
DESCRIPTION:Saturday\, April 25⋅7:00 – 10:00pm
URL:https://thebackwoodbar.com/event/grand-opening/
ATTACH;FMTTYPE=image/png:https://thebackwoodbar.com/wp-content/uploads/2026/03/4.25.26.png
END:VEVENT
BEGIN:VEVENT
DTSTART;TZID=America/Chicago:20260426T190000
DTEND;TZID=America/Chicago:20260426T220000
DTSTAMP:20260420T005814
CREATED:20260403T230401Z
LAST-MODIFIED:20260403T230401Z
UID:3415-1777230000-1777240800@thebackwoodbar.com
SUMMARY:Karaoke Atx
DESCRIPTION:Sunday\, April 26⋅7:00 – 10:00pm\nWeekly on Sunday
URL:https://thebackwoodbar.com/event/karaoke-atx-22/
ATTACH;FMTTYPE=image/jpeg:https://thebackwoodbar.com/wp-content/uploads/2026/04/Karaoke-Night.jpg
END:VEVENT
BEGIN:VEVENT
DTSTART;TZID=America/Chicago:20260427T180000
DTEND;TZID=America/Chicago:20260427T220000
DTSTAMP:20260420T005814
CREATED:20260403T230508Z
LAST-MODIFIED:20260406T234710Z
UID:3416-1777312800-1777327200@thebackwoodbar.com
SUMMARY:Ace of Spades / Industry Steak Night
DESCRIPTION:Monday\, April 27⋅6:00 – 10:00pm\nWeekly on Monday
URL:https://thebackwoodbar.com/event/ace-of-spades-industry-steak-night-23/
ATTACH;FMTTYPE=image/png:https://thebackwoodbar.com/wp-content/uploads/2026/04/aceofspades.png
END:VEVENT
BEGIN:VEVENT
DTSTART;TZID=America/Chicago:20260427T190000
DTEND;TZID=America/Chicago:20260427T210000
DTSTAMP:20260420T005814
CREATED:20260403T230726Z
LAST-MODIFIED:20260403T230726Z
UID:3417-1777316400-1777323600@thebackwoodbar.com
SUMMARY:Bryan Reese
DESCRIPTION:Monday\, April 27⋅7:00 – 9:00pm
URL:https://thebackwoodbar.com/event/bryan-reese/
ATTACH;FMTTYPE=image/png:https://thebackwoodbar.com/wp-content/uploads/2024/08/placeholder.png
END:VEVENT
BEGIN:VEVENT
DTSTART;TZID=America/Chicago:20260428T200000
DTEND;TZID=America/Chicago:20260428T230000
DTSTAMP:20260420T005814
CREATED:20260403T230904Z
LAST-MODIFIED:20260403T230904Z
UID:3418-1777406400-1777417200@thebackwoodbar.com
SUMMARY:Will Jones
DESCRIPTION:Tuesday\, April 28⋅8:00 – 11:00pm\nEvery 2 weeks on Tuesday
URL:https://thebackwoodbar.com/event/will-jones-9/
ATTACH;FMTTYPE=image/jpeg:https://thebackwoodbar.com/wp-content/uploads/2026/02/Live-Music.jpg
END:VEVENT
BEGIN:VEVENT
DTSTART;TZID=America/Chicago:20260429T190000
DTEND;TZID=America/Chicago:20260429T230000
DTSTAMP:20260420T005814
CREATED:20260403T231013Z
LAST-MODIFIED:20260403T231013Z
UID:3419-1777489200-1777503600@thebackwoodbar.com
SUMMARY:Lone Star Souvenirs
DESCRIPTION:Wednesday\, April 29⋅7:00 – 11:00pm\nWeekly on Wednesday
URL:https://thebackwoodbar.com/event/lone-star-souvenirs-23/
ATTACH;FMTTYPE=image/webp:https://thebackwoodbar.com/wp-content/uploads/2025/12/LSS.webp
END:VEVENT
BEGIN:VEVENT
DTSTART;TZID=America/Chicago:20260430T190000
DTEND;TZID=America/Chicago:20260430T230000
DTSTAMP:20260420T005814
CREATED:20260403T231124Z
LAST-MODIFIED:20260403T231124Z
UID:3420-1777575600-1777590000@thebackwoodbar.com
SUMMARY:Open Mic
DESCRIPTION:Thursday\, April 30⋅7:00 – 11:00pm\nWeekly on Thursday
URL:https://thebackwoodbar.com/event/open-mic-22/
ATTACH;FMTTYPE=image/jpeg:https://thebackwoodbar.com/wp-content/uploads/2025/12/Open-Mic.jpg
END:VEVENT
BEGIN:VEVENT
DTSTART;TZID=America/Chicago:20260501T203000
DTEND;TZID=America/Chicago:20260502T000000
DTSTAMP:20260420T005814
CREATED:20260403T231344Z
LAST-MODIFIED:20260407T000159Z
UID:3421-1777667400-1777680000@thebackwoodbar.com
SUMMARY:Robert Johnson's Soul
DESCRIPTION:May 1\, 2026\, 8:30pm – May 2\, 2026\, 12:00am\nMonthly on the first Friday
URL:https://thebackwoodbar.com/event/robert-johnsons-soul-5/
ATTACH;FMTTYPE=image/png:https://thebackwoodbar.com/wp-content/uploads/2025/12/1.2.26.png
END:VEVENT
BEGIN:VEVENT
DTSTART;TZID=America/Chicago:20260502T200000
DTEND;TZID=America/Chicago:20260502T230000
DTSTAMP:20260420T005814
CREATED:20260403T231523Z
LAST-MODIFIED:20260403T231523Z
UID:3422-1777752000-1777762800@thebackwoodbar.com
SUMMARY:Dean Seltzer Band
DESCRIPTION:Saturday\, May 2⋅8:00 – 11:00pm
URL:https://thebackwoodbar.com/event/dean-seltzer-band/
ATTACH;FMTTYPE=image/png:https://thebackwoodbar.com/wp-content/uploads/2026/04/5.2.26.png
END:VEVENT
BEGIN:VEVENT
DTSTART;TZID=America/Chicago:20260503T190000
DTEND;TZID=America/Chicago:20260503T220000
DTSTAMP:20260420T005814
CREATED:20260406T225624Z
LAST-MODIFIED:20260406T234140Z
UID:3446-1777834800-1777845600@thebackwoodbar.com
SUMMARY:Karaoke Atx
DESCRIPTION:Sunday\, May 3⋅7:00 – 10:00pm\nWeekly on Sunday
URL:https://thebackwoodbar.com/event/karaoke-atx-23/
ATTACH;FMTTYPE=image/jpeg:https://thebackwoodbar.com/wp-content/uploads/2026/04/Karaoke-Night.jpg
END:VEVENT
BEGIN:VEVENT
DTSTART;TZID=America/Chicago:20260504T180000
DTEND;TZID=America/Chicago:20260504T220000
DTSTAMP:20260420T005814
CREATED:20260406T225748Z
LAST-MODIFIED:20260406T225748Z
UID:3447-1777917600-1777932000@thebackwoodbar.com
SUMMARY:Ace of Spades / Industry Steak Night
DESCRIPTION:Monday\, May 4⋅6:00 – 10:00pm\nWeekly on Monday
URL:https://thebackwoodbar.com/event/ace-of-spades-industry-steak-night-24/
ATTACH;FMTTYPE=image/png:https://thebackwoodbar.com/wp-content/uploads/2026/04/aceofspades.png
END:VEVENT
BEGIN:VEVENT
DTSTART;TZID=America/Chicago:20260504T190000
DTEND;TZID=America/Chicago:20260504T230000
DTSTAMP:20260420T005814
CREATED:20260406T225848Z
LAST-MODIFIED:20260406T225848Z
UID:3448-1777921200-1777935600@thebackwoodbar.com
SUMMARY:Bob Appel
DESCRIPTION:Monday\, May 4⋅7:00 – 11:00pm
URL:https://thebackwoodbar.com/event/bob-appel-7/
ATTACH;FMTTYPE=image/png:https://thebackwoodbar.com/wp-content/uploads/2026/04/Bob-Appel.png
END:VEVENT
BEGIN:VEVENT
DTSTART;TZID=America/Chicago:20260505T190000
DTEND;TZID=America/Chicago:20260505T210000
DTSTAMP:20260420T005814
CREATED:20260406T225948Z
LAST-MODIFIED:20260406T225948Z
UID:3449-1778007600-1778014800@thebackwoodbar.com
SUMMARY:Matt Fertitta
DESCRIPTION:Tuesday\, May 5⋅7:00 – 9:00pm\nEvery 2 weeks on Tuesday
URL:https://thebackwoodbar.com/event/matt-fertitta-7/
ATTACH;FMTTYPE=image/png:https://thebackwoodbar.com/wp-content/uploads/2026/04/Tuesday_s.png
END:VEVENT
BEGIN:VEVENT
DTSTART;TZID=America/Chicago:20260506T190000
DTEND;TZID=America/Chicago:20260506T230000
DTSTAMP:20260420T005814
CREATED:20260406T230042Z
LAST-MODIFIED:20260406T230042Z
UID:3450-1778094000-1778108400@thebackwoodbar.com
SUMMARY:Lone Star Souvenirs
DESCRIPTION:Wednesday\, May 6⋅7:00 – 11:00pm\nWeekly on Wednesday
URL:https://thebackwoodbar.com/event/lone-star-souvenirs-24/
ATTACH;FMTTYPE=image/webp:https://thebackwoodbar.com/wp-content/uploads/2025/12/LSS.webp
END:VEVENT
BEGIN:VEVENT
DTSTART;TZID=America/Chicago:20260507T190000
DTEND;TZID=America/Chicago:20260507T230000
DTSTAMP:20260420T005814
CREATED:20260406T230119Z
LAST-MODIFIED:20260406T235542Z
UID:3451-1778180400-1778194800@thebackwoodbar.com
SUMMARY:Open Mic
DESCRIPTION:Thursday\, May 7⋅7:00 – 11:00pm\nWeekly on Thursday
URL:https://thebackwoodbar.com/event/open-mic-23/
ATTACH;FMTTYPE=image/jpeg:https://thebackwoodbar.com/wp-content/uploads/2025/12/Open-Mic.jpg
END:VEVENT
BEGIN:VEVENT
DTSTART;TZID=America/Chicago:20260508T200000
DTEND;TZID=America/Chicago:20260508T230000
DTSTAMP:20260420T005814
CREATED:20260406T230257Z
LAST-MODIFIED:20260406T230257Z
UID:3452-1778270400-1778281200@thebackwoodbar.com
SUMMARY:80H
DESCRIPTION:Friday\, May 8⋅8:00 – 11:00pm
URL:https://thebackwoodbar.com/event/80h/
ATTACH;FMTTYPE=image/png:https://thebackwoodbar.com/wp-content/uploads/2026/04/5.8.26.png
END:VEVENT
BEGIN:VEVENT
DTSTART;TZID=America/Chicago:20260509T200000
DTEND;TZID=America/Chicago:20260509T230000
DTSTAMP:20260420T005814
CREATED:20260406T230537Z
LAST-MODIFIED:20260406T231722Z
UID:3453-1778356800-1778367600@thebackwoodbar.com
SUMMARY:Shufflehawks
DESCRIPTION:Saturday\, May 9⋅8:00 – 11:00pm
URL:https://thebackwoodbar.com/event/shufflehawks-4/
ATTACH;FMTTYPE=image/jpeg:https://thebackwoodbar.com/wp-content/uploads/2026/01/2.14.26.jpg
END:VEVENT
BEGIN:VEVENT
DTSTART;TZID=America/Chicago:20260510T190000
DTEND;TZID=America/Chicago:20260510T220000
DTSTAMP:20260420T005814
CREATED:20260406T230623Z
LAST-MODIFIED:20260406T230623Z
UID:3454-1778439600-1778450400@thebackwoodbar.com
SUMMARY:Karaoke Atx
DESCRIPTION:Sunday\, May 10⋅7:00 – 10:00pm\nWeekly on Sunday
URL:https://thebackwoodbar.com/event/karaoke-atx-24/
ATTACH;FMTTYPE=image/jpeg:https://thebackwoodbar.com/wp-content/uploads/2026/04/Karaoke-Night.jpg
END:VEVENT
BEGIN:VEVENT
DTSTART;TZID=America/Chicago:20260511T180000
DTEND;TZID=America/Chicago:20260511T220000
DTSTAMP:20260420T005814
CREATED:20260406T230738Z
LAST-MODIFIED:20260406T230738Z
UID:3455-1778522400-1778536800@thebackwoodbar.com
SUMMARY:Ace of Spades / Industry Steak Night
DESCRIPTION:Monday\, May 11⋅6:00 – 10:00pm\nWeekly on Monday
URL:https://thebackwoodbar.com/event/ace-of-spades-industry-steak-night-25/
ATTACH;FMTTYPE=image/png:https://thebackwoodbar.com/wp-content/uploads/2026/04/aceofspades.png
END:VEVENT
BEGIN:VEVENT
DTSTART;TZID=America/Chicago:20260512T200000
DTEND;TZID=America/Chicago:20260512T230000
DTSTAMP:20260420T005814
CREATED:20260406T230925Z
LAST-MODIFIED:20260406T230925Z
UID:3456-1778616000-1778626800@thebackwoodbar.com
SUMMARY:Will Jones
DESCRIPTION:Tuesday\, May 12⋅8:00 – 11:00pm\nEvery 2 weeks on Tuesday
URL:https://thebackwoodbar.com/event/will-jones-12/
ATTACH;FMTTYPE=image/jpeg:https://thebackwoodbar.com/wp-content/uploads/2026/02/Live-Music.jpg
END:VEVENT
BEGIN:VEVENT
DTSTART;TZID=America/Chicago:20260513T190000
DTEND;TZID=America/Chicago:20260513T230000
DTSTAMP:20260420T005814
CREATED:20260406T231024Z
LAST-MODIFIED:20260406T231024Z
UID:3457-1778698800-1778713200@thebackwoodbar.com
SUMMARY:Lone Star Souvenirs
DESCRIPTION:Wednesday\, May 13⋅7:00 – 11:00pm\nWeekly on Wednesday
URL:https://thebackwoodbar.com/event/lone-star-souvenirs-25/
ATTACH;FMTTYPE=image/webp:https://thebackwoodbar.com/wp-content/uploads/2025/11/LSS-1.webp
END:VEVENT
BEGIN:VEVENT
DTSTART;TZID=America/Chicago:20260514T190000
DTEND;TZID=America/Chicago:20260514T230000
DTSTAMP:20260420T005814
CREATED:20260406T231127Z
LAST-MODIFIED:20260406T231127Z
UID:3458-1778785200-1778799600@thebackwoodbar.com
SUMMARY:Open Mic
DESCRIPTION:Thursday\, May 14⋅7:00 – 11:00pm\nWeekly on Thursday
URL:https://thebackwoodbar.com/event/open-mic-24/
ATTACH;FMTTYPE=image/jpeg:https://thebackwoodbar.com/wp-content/uploads/2025/11/Open-Mic.jpg
END:VEVENT
BEGIN:VEVENT
DTSTART;TZID=America/Chicago:20260515T200000
DTEND;TZID=America/Chicago:20260515T230000
DTSTAMP:20260420T005814
CREATED:20260406T231254Z
LAST-MODIFIED:20260406T231446Z
UID:3459-1778875200-1778886000@thebackwoodbar.com
SUMMARY:Glen Collins Band
DESCRIPTION:Friday\, May 15⋅8:00 – 11:00pm
URL:https://thebackwoodbar.com/event/glen-collins-band-3/
ATTACH;FMTTYPE=image/jpeg:https://thebackwoodbar.com/wp-content/uploads/2026/02/Live-Music.jpg
END:VEVENT
END:VCALENDAR